BEGIN:VCALENDAR
VERSION:2.0
PRODID:-//Father Frank Anksorus Council #6521 - ECPv6.15.20//NONSGML v1.0//EN
CALSCALE:GREGORIAN
METHOD:PUBLISH
X-WR-CALNAME:Father Frank Anksorus Council #6521
X-ORIGINAL-URL:https://kofc6521.org
X-WR-CALDESC:Events for Father Frank Anksorus Council #6521
REFRESH-INTERVAL;VALUE=DURATION:PT1H
X-Robots-Tag:noindex
X-PUBLISHED-TTL:PT1H
BEGIN:VTIMEZONE
TZID:America/Chicago
BEGIN:DAYLIGHT
TZOFFSETFROM:-0600
TZOFFSETTO:-0500
TZNAME:CDT
DTSTART:20240310T080000
END:DAYLIGHT
BEGIN:STANDARD
TZOFFSETFROM:-0500
TZOFFSETTO:-0600
TZNAME:CST
DTSTART:20241103T070000
END:STANDARD
BEGIN:DAYLIGHT
TZOFFSETFROM:-0600
TZOFFSETTO:-0500
TZNAME:CDT
DTSTART:20250309T080000
END:DAYLIGHT
BEGIN:STANDARD
TZOFFSETFROM:-0500
TZOFFSETTO:-0600
TZNAME:CST
DTSTART:20251102T070000
END:STANDARD
BEGIN:DAYLIGHT
TZOFFSETFROM:-0600
TZOFFSETTO:-0500
TZNAME:CDT
DTSTART:20260308T080000
END:DAYLIGHT
BEGIN:STANDARD
TZOFFSETFROM:-0500
TZOFFSETTO:-0600
TZNAME:CST
DTSTART:20261101T070000
END:STANDARD
END:VTIMEZONE
BEGIN:VEVENT
DTSTART;TZID=America/Chicago:20251218T190000
DTEND;TZID=America/Chicago:20251218T210000
DTSTAMP:20260423T191844
CREATED:20251108T052641Z
LAST-MODIFIED:20251108T052641Z
UID:13627-1766084400-1766091600@kofc6521.org
SUMMARY:Officer Planning Meeting
DESCRIPTION:
URL:https://kofc6521.org/event/officer-planning-meeting-49/
LOCATION:St. Dominic Campus Father Frank Room\, 440 E Briarcliff Road\, Bolingbrook\, IL\, 60440\, United States
CATEGORIES:Business & Officer Meetings
END:VEVENT
END:VCALENDAR