BEGIN:VCALENDAR
VERSION:2.0
PRODID:-//Father Frank Anksorus Council #6521 - ECPv6.15.20//NONSGML v1.0//EN
CALSCALE:GREGORIAN
METHOD:PUBLISH
X-WR-CALNAME:Father Frank Anksorus Council #6521
X-ORIGINAL-URL:https://kofc6521.org
X-WR-CALDESC:Events for Father Frank Anksorus Council #6521
REFRESH-INTERVAL;VALUE=DURATION:PT1H
X-Robots-Tag:noindex
X-PUBLISHED-TTL:PT1H
BEGIN:VTIMEZONE
TZID:America/Chicago
BEGIN:DAYLIGHT
TZOFFSETFROM:-0600
TZOFFSETTO:-0500
TZNAME:CDT
DTSTART:20230312T080000
END:DAYLIGHT
BEGIN:STANDARD
TZOFFSETFROM:-0500
TZOFFSETTO:-0600
TZNAME:CST
DTSTART:20231105T070000
END:STANDARD
BEGIN:DAYLIGHT
TZOFFSETFROM:-0600
TZOFFSETTO:-0500
TZNAME:CDT
DTSTART:20240310T080000
END:DAYLIGHT
BEGIN:STANDARD
TZOFFSETFROM:-0500
TZOFFSETTO:-0600
TZNAME:CST
DTSTART:20241103T070000
END:STANDARD
BEGIN:DAYLIGHT
TZOFFSETFROM:-0600
TZOFFSETTO:-0500
TZNAME:CDT
DTSTART:20250309T080000
END:DAYLIGHT
BEGIN:STANDARD
TZOFFSETFROM:-0500
TZOFFSETTO:-0600
TZNAME:CST
DTSTART:20251102T070000
END:STANDARD
END:VTIMEZONE
BEGIN:VEVENT
DTSTART;TZID=America/Chicago:20241215T073000
DTEND;TZID=America/Chicago:20241215T123000
DTSTAMP:20260424T150515
CREATED:20240629T154205Z
LAST-MODIFIED:20240629T154205Z
UID:12918-1734247800-1734265800@kofc6521.org
SUMMARY:Pancake Breakfast With Santa
DESCRIPTION:
URL:https://kofc6521.org/event/pancake-breakfast-with-santa-4/
LOCATION:St. Dominic School\, 420 E. Briarcliff\, Bolingbrook\, 60440\, United States
CATEGORIES:Community,Family
END:VEVENT
BEGIN:VEVENT
DTSTART;TZID=America/Chicago:20241228T160000
DTEND;TZID=America/Chicago:20241228T200000
DTSTAMP:20260424T150515
CREATED:20241204T162751Z
LAST-MODIFIED:20241204T162751Z
UID:13096-1735401600-1735416000@kofc6521.org
SUMMARY:Council Family Holiday Party
DESCRIPTION:
URL:https://kofc6521.org/event/council-family-holiday-party-2/
LOCATION:St. Dominic School\, 420 E. Briarcliff\, Bolingbrook\, 60440\, United States
CATEGORIES:Family
END:VEVENT
END:VCALENDAR