BEGIN:VCALENDAR
VERSION:2.0
PRODID:-//Father Frank Anksorus Council #6521 - ECPv6.15.20//NONSGML v1.0//EN
CALSCALE:GREGORIAN
METHOD:PUBLISH
X-ORIGINAL-URL:https://kofc6521.org
X-WR-CALDESC:Events for Father Frank Anksorus Council #6521
REFRESH-INTERVAL;VALUE=DURATION:PT1H
X-Robots-Tag:noindex
X-PUBLISHED-TTL:PT1H
BEGIN:VTIMEZONE
TZID:America/Chicago
BEGIN:DAYLIGHT
TZOFFSETFROM:-0600
TZOFFSETTO:-0500
TZNAME:CDT
DTSTART:20240310T080000
END:DAYLIGHT
BEGIN:STANDARD
TZOFFSETFROM:-0500
TZOFFSETTO:-0600
TZNAME:CST
DTSTART:20241103T070000
END:STANDARD
BEGIN:DAYLIGHT
TZOFFSETFROM:-0600
TZOFFSETTO:-0500
TZNAME:CDT
DTSTART:20250309T080000
END:DAYLIGHT
BEGIN:STANDARD
TZOFFSETFROM:-0500
TZOFFSETTO:-0600
TZNAME:CST
DTSTART:20251102T070000
END:STANDARD
BEGIN:DAYLIGHT
TZOFFSETFROM:-0600
TZOFFSETTO:-0500
TZNAME:CDT
DTSTART:20260308T080000
END:DAYLIGHT
BEGIN:STANDARD
TZOFFSETFROM:-0500
TZOFFSETTO:-0600
TZNAME:CST
DTSTART:20261101T070000
END:STANDARD
END:VTIMEZONE
BEGIN:VEVENT
DTSTART;TZID=America/Chicago:20250406T073000
DTEND;TZID=America/Chicago:20250406T123000
DTSTAMP:20260424T085925
CREATED:20250311T162610Z
LAST-MODIFIED:20250311T162610Z
UID:13324-1743924600-1743942600@kofc6521.org
SUMMARY:Pancake Breakfast with the Easter Bunny
DESCRIPTION:
URL:https://kofc6521.org/event/pancake-breakfast-with-the-easter-bunny-3/
LOCATION:St. Dominic School\, 420 E. Briarcliff\, Bolingbrook\, 60440\, United States
CATEGORIES:Community,Family
END:VEVENT
BEGIN:VEVENT
DTSTART;TZID=America/Chicago:20250406T133000
DTEND;TZID=America/Chicago:20250406T143000
DTSTAMP:20260424T085925
CREATED:20250315T021255Z
LAST-MODIFIED:20250315T021255Z
UID:13338-1743946200-1743949800@kofc6521.org
SUMMARY:Easter Egg Hunt
DESCRIPTION:
URL:https://kofc6521.org/event/easter-egg-hunt-2/
LOCATION:St. Dominic School\, 420 E. Briarcliff\, Bolingbrook\, 60440\, United States
CATEGORIES:Community,Family
END:VEVENT
END:VCALENDAR