BEGIN:VCALENDAR
VERSION:2.0
PRODID:-//Father Frank Anksorus Council #6521 - ECPv6.15.20//NONSGML v1.0//EN
CALSCALE:GREGORIAN
METHOD:PUBLISH
X-WR-CALNAME:Father Frank Anksorus Council #6521
X-ORIGINAL-URL:https://kofc6521.org
X-WR-CALDESC:Events for Father Frank Anksorus Council #6521
REFRESH-INTERVAL;VALUE=DURATION:PT1H
X-Robots-Tag:noindex
X-PUBLISHED-TTL:PT1H
BEGIN:VTIMEZONE
TZID:America/Chicago
BEGIN:DAYLIGHT
TZOFFSETFROM:-0600
TZOFFSETTO:-0500
TZNAME:CDT
DTSTART:20240310T080000
END:DAYLIGHT
BEGIN:STANDARD
TZOFFSETFROM:-0500
TZOFFSETTO:-0600
TZNAME:CST
DTSTART:20241103T070000
END:STANDARD
BEGIN:DAYLIGHT
TZOFFSETFROM:-0600
TZOFFSETTO:-0500
TZNAME:CDT
DTSTART:20250309T080000
END:DAYLIGHT
BEGIN:STANDARD
TZOFFSETFROM:-0500
TZOFFSETTO:-0600
TZNAME:CST
DTSTART:20251102T070000
END:STANDARD
BEGIN:DAYLIGHT
TZOFFSETFROM:-0600
TZOFFSETTO:-0500
TZNAME:CDT
DTSTART:20260308T080000
END:DAYLIGHT
BEGIN:STANDARD
TZOFFSETFROM:-0500
TZOFFSETTO:-0600
TZNAME:CST
DTSTART:20261101T070000
END:STANDARD
END:VTIMEZONE
BEGIN:VEVENT
DTSTART;TZID=America/Chicago:20250403T193000
DTEND;TZID=America/Chicago:20250403T210000
DTSTAMP:20260424T050323
CREATED:20250311T162758Z
LAST-MODIFIED:20250311T162758Z
UID:13326-1743708600-1743714000@kofc6521.org
SUMMARY:Council Business Meeting
DESCRIPTION:
URL:https://kofc6521.org/event/council-business-meeting-48/
LOCATION:St. Dominic Campus Father Frank Room\, 440 E Briarcliff Road\, Bolingbrook\, IL\, 60440\, United States
CATEGORIES:Business & Officer Meetings
END:VEVENT
BEGIN:VEVENT
DTSTART;TZID=America/Chicago:20250406T073000
DTEND;TZID=America/Chicago:20250406T123000
DTSTAMP:20260424T050323
CREATED:20250311T162610Z
LAST-MODIFIED:20250311T162610Z
UID:13324-1743924600-1743942600@kofc6521.org
SUMMARY:Pancake Breakfast with the Easter Bunny
DESCRIPTION:
URL:https://kofc6521.org/event/pancake-breakfast-with-the-easter-bunny-3/
LOCATION:St. Dominic School\, 420 E. Briarcliff\, Bolingbrook\, 60440\, United States
CATEGORIES:Community,Family
END:VEVENT
BEGIN:VEVENT
DTSTART;TZID=America/Chicago:20250406T090000
DTEND;TZID=America/Chicago:20250406T130000
DTSTAMP:20260424T050323
CREATED:20250315T020841Z
LAST-MODIFIED:20250315T020841Z
UID:13334-1743930000-1743944400@kofc6521.org
SUMMARY:Blood Drive
DESCRIPTION:
URL:https://kofc6521.org/event/blood-drive-6/
LOCATION:St. Dominic Church\, 440 E. Briarcliff Rd.\, Bolingbrook\, 60440\, United States
CATEGORIES:Community,Life
END:VEVENT
BEGIN:VEVENT
DTSTART;TZID=America/Chicago:20250406T133000
DTEND;TZID=America/Chicago:20250406T143000
DTSTAMP:20260424T050323
CREATED:20250315T021255Z
LAST-MODIFIED:20250315T021255Z
UID:13338-1743946200-1743949800@kofc6521.org
SUMMARY:Easter Egg Hunt
DESCRIPTION:
URL:https://kofc6521.org/event/easter-egg-hunt-2/
LOCATION:St. Dominic School\, 420 E. Briarcliff\, Bolingbrook\, 60440\, United States
CATEGORIES:Community,Family
END:VEVENT
BEGIN:VEVENT
DTSTART;TZID=America/Chicago:20250410T190000
DTEND;TZID=America/Chicago:20250410T200000
DTSTAMP:20260424T050323
CREATED:20250315T021627Z
LAST-MODIFIED:20250315T021627Z
UID:13340-1744311600-1744315200@kofc6521.org
SUMMARY:Golf Committee Meeting
DESCRIPTION:
URL:https://kofc6521.org/event/golf-committee-meeting-3/
LOCATION:St. Dominic Campus Father Frank Room\, 440 E Briarcliff Road\, Bolingbrook\, IL\, 60440\, United States
CATEGORIES:Golf Committee
END:VEVENT
BEGIN:VEVENT
DTSTART;TZID=America/Chicago:20250412T070000
DTEND;TZID=America/Chicago:20250412T170000
DTSTAMP:20260424T050323
CREATED:20250330T175725Z
LAST-MODIFIED:20250330T175725Z
UID:13352-1744441200-1744477200@kofc6521.org
SUMMARY:40 Days for Life
DESCRIPTION:
URL:https://kofc6521.org/event/40-days-for-life-4/
LOCATION:Planned Parenthood Aurora
CATEGORIES:Life
END:VEVENT
BEGIN:VEVENT
DTSTART;TZID=America/Chicago:20250424T193000
DTEND;TZID=America/Chicago:20250424T210000
DTSTAMP:20260424T050323
CREATED:20250315T021020Z
LAST-MODIFIED:20250315T021020Z
UID:13336-1745523000-1745528400@kofc6521.org
SUMMARY:Officer Planning Meeting
DESCRIPTION:
URL:https://kofc6521.org/event/officer-planning-meeting-42/
LOCATION:IL
CATEGORIES:Business & Officer Meetings
END:VEVENT
BEGIN:VEVENT
DTSTART;TZID=America/Chicago:20250427T150000
DTEND;TZID=America/Chicago:20250427T160000
DTSTAMP:20260424T050323
CREATED:20250330T175903Z
LAST-MODIFIED:20250330T175903Z
UID:13354-1745766000-1745769600@kofc6521.org
SUMMARY:Divine Mercy
DESCRIPTION:
URL:https://kofc6521.org/event/divine-mercy/
LOCATION:St. Dominic Church\, 440 E. Briarcliff Rd.\, Bolingbrook\, 60440\, United States
CATEGORIES:Faith
END:VEVENT
END:VCALENDAR