BEGIN:VCALENDAR
VERSION:2.0
PRODID:-//Father Frank Anksorus Council #6521 - ECPv6.15.20//NONSGML v1.0//EN
CALSCALE:GREGORIAN
METHOD:PUBLISH
X-WR-CALNAME:Father Frank Anksorus Council #6521
X-ORIGINAL-URL:https://kofc6521.org
X-WR-CALDESC:Events for Father Frank Anksorus Council #6521
REFRESH-INTERVAL;VALUE=DURATION:PT1H
X-Robots-Tag:noindex
X-PUBLISHED-TTL:PT1H
BEGIN:VTIMEZONE
TZID:America/Chicago
BEGIN:DAYLIGHT
TZOFFSETFROM:-0600
TZOFFSETTO:-0500
TZNAME:CDT
DTSTART:20240310T080000
END:DAYLIGHT
BEGIN:STANDARD
TZOFFSETFROM:-0500
TZOFFSETTO:-0600
TZNAME:CST
DTSTART:20241103T070000
END:STANDARD
BEGIN:DAYLIGHT
TZOFFSETFROM:-0600
TZOFFSETTO:-0500
TZNAME:CDT
DTSTART:20250309T080000
END:DAYLIGHT
BEGIN:STANDARD
TZOFFSETFROM:-0500
TZOFFSETTO:-0600
TZNAME:CST
DTSTART:20251102T070000
END:STANDARD
BEGIN:DAYLIGHT
TZOFFSETFROM:-0600
TZOFFSETTO:-0500
TZNAME:CDT
DTSTART:20260308T080000
END:DAYLIGHT
BEGIN:STANDARD
TZOFFSETFROM:-0500
TZOFFSETTO:-0600
TZNAME:CST
DTSTART:20261101T070000
END:STANDARD
END:VTIMEZONE
BEGIN:VEVENT
DTSTART;TZID=America/Chicago:20250501T193000
DTEND;TZID=America/Chicago:20250501T210000
DTSTAMP:20260424T034340
CREATED:20250402T145206Z
LAST-MODIFIED:20250402T145206Z
UID:13356-1746127800-1746133200@kofc6521.org
SUMMARY:Council Business Meeting
DESCRIPTION:
URL:https://kofc6521.org/event/council-business-meeting-49/
LOCATION:St. Dominic Campus Father Frank Room\, 440 E Briarcliff Road\, Bolingbrook\, IL\, 60440\, United States
CATEGORIES:Business & Officer Meetings
END:VEVENT
BEGIN:VEVENT
DTSTART;TZID=America/Chicago:20250515T193000
DTEND;TZID=America/Chicago:20250515T210000
DTSTAMP:20260424T034340
CREATED:20250402T145352Z
LAST-MODIFIED:20250402T145352Z
UID:13358-1747337400-1747342800@kofc6521.org
SUMMARY:Officer Planning Meeting
DESCRIPTION:
URL:https://kofc6521.org/event/officer-planning-meeting-43/
LOCATION:St. Dominic Campus Father Frank Room\, 440 E Briarcliff Road\, Bolingbrook\, IL\, 60440\, United States
CATEGORIES:Business & Officer Meetings
END:VEVENT
BEGIN:VEVENT
DTSTART;VALUE=DATE:20250516
DTEND;VALUE=DATE:20250519
DTSTAMP:20260424T034340
CREATED:20250402T145903Z
LAST-MODIFIED:20250402T145903Z
UID:13360-1747353600-1747612799@kofc6521.org
SUMMARY:K of C Illinois State Convention
DESCRIPTION:
URL:https://kofc6521.org/event/k-of-c-illinois-state-convention-2/
LOCATION:Oakbrook Hills Resort\, 3500 Midwest Road\, Oakbrook\, IL\, 60523\, United States
CATEGORIES:State of Illinois Council
END:VEVENT
BEGIN:VEVENT
DTSTART;TZID=America/Chicago:20250521T190000
DTEND;TZID=America/Chicago:20250521T203000
DTSTAMP:20260424T034340
CREATED:20250517T024009Z
LAST-MODIFIED:20250517T024009Z
UID:13406-1747854000-1747859400@kofc6521.org
SUMMARY:Golf Committee Meeting
DESCRIPTION:
URL:https://kofc6521.org/event/golf-committee-meeting-4/
LOCATION:Bolingbrook Golf Club\, 2001 Rodeo Drive\, Bolingbrook\, IL\, 60490\, United States
CATEGORIES:Golf Committee
END:VEVENT
END:VCALENDAR