BEGIN:VCALENDAR
VERSION:2.0
PRODID:-//Father Frank Anksorus Council #6521 - ECPv6.15.20//NONSGML v1.0//EN
CALSCALE:GREGORIAN
METHOD:PUBLISH
X-WR-CALNAME:Father Frank Anksorus Council #6521
X-ORIGINAL-URL:https://kofc6521.org
X-WR-CALDESC:Events for Father Frank Anksorus Council #6521
REFRESH-INTERVAL;VALUE=DURATION:PT1H
X-Robots-Tag:noindex
X-PUBLISHED-TTL:PT1H
BEGIN:VTIMEZONE
TZID:America/Chicago
BEGIN:DAYLIGHT
TZOFFSETFROM:-0600
TZOFFSETTO:-0500
TZNAME:CDT
DTSTART:20240310T080000
END:DAYLIGHT
BEGIN:STANDARD
TZOFFSETFROM:-0500
TZOFFSETTO:-0600
TZNAME:CST
DTSTART:20241103T070000
END:STANDARD
BEGIN:DAYLIGHT
TZOFFSETFROM:-0600
TZOFFSETTO:-0500
TZNAME:CDT
DTSTART:20250309T080000
END:DAYLIGHT
BEGIN:STANDARD
TZOFFSETFROM:-0500
TZOFFSETTO:-0600
TZNAME:CST
DTSTART:20251102T070000
END:STANDARD
BEGIN:DAYLIGHT
TZOFFSETFROM:-0600
TZOFFSETTO:-0500
TZNAME:CDT
DTSTART:20260308T080000
END:DAYLIGHT
BEGIN:STANDARD
TZOFFSETFROM:-0500
TZOFFSETTO:-0600
TZNAME:CST
DTSTART:20261101T070000
END:STANDARD
END:VTIMEZONE
BEGIN:VEVENT
DTSTART;TZID=America/Chicago:20250807T193000
DTEND;TZID=America/Chicago:20250807T210000
DTSTAMP:20260423T225230
CREATED:20250703T190121Z
LAST-MODIFIED:20250703T190121Z
UID:13435-1754595000-1754600400@kofc6521.org
SUMMARY:Council Business Meeting
DESCRIPTION:
URL:https://kofc6521.org/event/council-business-meeting-51/
LOCATION:St. Dominic School\, 420 E. Briarcliff\, Bolingbrook\, 60440\, United States
CATEGORIES:Business & Officer Meetings
END:VEVENT
BEGIN:VEVENT
DTSTART;TZID=America/Chicago:20250808T080000
DTEND;TZID=America/Chicago:20250808T100000
DTSTAMP:20260423T225230
CREATED:20250720T181220Z
LAST-MODIFIED:20250724T160855Z
UID:13468-1754640000-1754647200@kofc6521.org
SUMMARY:Feast of St. Dominic: Parish Consecration to the Divine Mercy
DESCRIPTION:
URL:https://kofc6521.org/event/feast-of-st-dominic-parish-consecration-to-the-divine-mercy/
LOCATION:St. Dominic Church\, 440 E. Briarcliff Rd.\, Bolingbrook\, 60440\, United States
CATEGORIES:Faith
END:VEVENT
BEGIN:VEVENT
DTSTART;TZID=America/Chicago:20250821T193000
DTEND;TZID=America/Chicago:20250821T210000
DTSTAMP:20260423T225230
CREATED:20250703T190342Z
LAST-MODIFIED:20250703T190342Z
UID:13437-1755804600-1755810000@kofc6521.org
SUMMARY:Officer Planning Meeting
DESCRIPTION:
URL:https://kofc6521.org/event/officer-planning-meeting-46/
LOCATION:St. Dominic School\, 420 E. Briarcliff\, Bolingbrook\, 60440\, United States
CATEGORIES:Business & Officer Meetings
END:VEVENT
BEGIN:VEVENT
DTSTART;TZID=America/Chicago:20250823T110000
DTEND;TZID=America/Chicago:20250823T170000
DTSTAMP:20260423T225230
CREATED:20250706T193110Z
LAST-MODIFIED:20250706T193110Z
UID:13443-1755946800-1755968400@kofc6521.org
SUMMARY:Council Family Picnic
DESCRIPTION:
URL:https://kofc6521.org/event/council-family-picnic-4/
LOCATION:Jim Meyer Park\, 267 W Briarcliff Rd\,\, IL\, Bolingbrook\, IL\, 60440\, United States
CATEGORIES:Family
END:VEVENT
BEGIN:VEVENT
DTSTART;TZID=America/Chicago:20250826T190000
DTEND;TZID=America/Chicago:20250826T200000
DTSTAMP:20260423T225230
CREATED:20250815T155351Z
LAST-MODIFIED:20250815T155351Z
UID:13526-1756234800-1756238400@kofc6521.org
SUMMARY:Silver Rose Prayer Service
DESCRIPTION:This Event will take place at St Francis Catholic Church in Bolingbrook in conjunction with Council 11092.
URL:https://kofc6521.org/event/silver-rose-prayer-service-3/
LOCATION:St Francis Catholic Church\, 1501 W Boughton Rd\, Bolingbrook\, IL\, 60440\, United States
CATEGORIES:Faith
END:VEVENT
END:VCALENDAR