BEGIN:VCALENDAR
VERSION:2.0
PRODID:-//Father Frank Anksorus Council #6521 - ECPv6.15.20//NONSGML v1.0//EN
CALSCALE:GREGORIAN
METHOD:PUBLISH
X-WR-CALNAME:Father Frank Anksorus Council #6521
X-ORIGINAL-URL:https://kofc6521.org
X-WR-CALDESC:Events for Father Frank Anksorus Council #6521
REFRESH-INTERVAL;VALUE=DURATION:PT1H
X-Robots-Tag:noindex
X-PUBLISHED-TTL:PT1H
BEGIN:VTIMEZONE
TZID:America/Chicago
BEGIN:DAYLIGHT
TZOFFSETFROM:-0600
TZOFFSETTO:-0500
TZNAME:CDT
DTSTART:20240310T080000
END:DAYLIGHT
BEGIN:STANDARD
TZOFFSETFROM:-0500
TZOFFSETTO:-0600
TZNAME:CST
DTSTART:20241103T070000
END:STANDARD
BEGIN:DAYLIGHT
TZOFFSETFROM:-0600
TZOFFSETTO:-0500
TZNAME:CDT
DTSTART:20250309T080000
END:DAYLIGHT
BEGIN:STANDARD
TZOFFSETFROM:-0500
TZOFFSETTO:-0600
TZNAME:CST
DTSTART:20251102T070000
END:STANDARD
BEGIN:DAYLIGHT
TZOFFSETFROM:-0600
TZOFFSETTO:-0500
TZNAME:CDT
DTSTART:20260308T080000
END:DAYLIGHT
BEGIN:STANDARD
TZOFFSETFROM:-0500
TZOFFSETTO:-0600
TZNAME:CST
DTSTART:20261101T070000
END:STANDARD
END:VTIMEZONE
BEGIN:VEVENT
DTSTART;TZID=America/Chicago:20251002T193000
DTEND;TZID=America/Chicago:20251002T210000
DTSTAMP:20260423T192059
CREATED:20250810T191045Z
LAST-MODIFIED:20250810T191045Z
UID:13516-1759433400-1759438800@kofc6521.org
SUMMARY:Council Business Meeting
DESCRIPTION:
URL:https://kofc6521.org/event/council-business-meeting-53/
LOCATION:St. Dominic School\, 420 E. Briarcliff\, Bolingbrook\, 60440\, United States
CATEGORIES:Business & Officer Meetings
END:VEVENT
BEGIN:VEVENT
DTSTART;TZID=America/Chicago:20251004T110000
DTEND;TZID=America/Chicago:20251004T150000
DTSTAMP:20260423T192059
CREATED:20250907T041543Z
LAST-MODIFIED:20250907T204441Z
UID:13538-1759575600-1759590000@kofc6521.org
SUMMARY:Celebration of Special Recreation
DESCRIPTION:
URL:https://kofc6521.org/event/celebration-of-special-recreation-2/
LOCATION:Bolingbrook Park District Anerino Center\, 201 Recreation Drive\, Bolingbrook\, IL\, 60440\, United States
CATEGORIES:Community
END:VEVENT
BEGIN:VEVENT
DTSTART;TZID=America/Chicago:20251011T170000
DTEND;TZID=America/Chicago:20251011T190000
DTSTAMP:20260423T192059
CREATED:20251004T161644Z
LAST-MODIFIED:20251004T161644Z
UID:13583-1760202000-1760209200@kofc6521.org
SUMMARY:Membership Drive
DESCRIPTION:
URL:https://kofc6521.org/event/membership-drive-15/
LOCATION:St. Dominic Church\, 440 E. Briarcliff Rd.\, Bolingbrook\, 60440\, United States
CATEGORIES:Membership
END:VEVENT
BEGIN:VEVENT
DTSTART;TZID=America/Chicago:20251012T070000
DTEND;TZID=America/Chicago:20251012T110000
DTSTAMP:20260423T192100
CREATED:20251004T162014Z
LAST-MODIFIED:20251004T162014Z
UID:13587-1760252400-1760266800@kofc6521.org
SUMMARY:Donut Sunday
DESCRIPTION:
URL:https://kofc6521.org/event/donut-sunday-2/
LOCATION:St. Dominic Church\, 440 E. Briarcliff Rd.\, Bolingbrook\, 60440\, United States
CATEGORIES:Membership,Social Event
END:VEVENT
BEGIN:VEVENT
DTSTART;TZID=America/Chicago:20251012T070000
DTEND;TZID=America/Chicago:20251012T140000
DTSTAMP:20260423T192100
CREATED:20251004T161826Z
LAST-MODIFIED:20251004T161826Z
UID:13585-1760252400-1760277600@kofc6521.org
SUMMARY:Membership Drive
DESCRIPTION:
URL:https://kofc6521.org/event/membership-drive-16/
LOCATION:St. Dominic Church\, 440 E. Briarcliff Rd.\, Bolingbrook\, 60440\, United States
CATEGORIES:Membership
END:VEVENT
BEGIN:VEVENT
DTSTART;TZID=America/Chicago:20251012T090000
DTEND;TZID=America/Chicago:20251012T100000
DTSTAMP:20260423T192100
CREATED:20251004T161454Z
LAST-MODIFIED:20251004T161454Z
UID:13581-1760259600-1760263200@kofc6521.org
SUMMARY:Corporate Communion
DESCRIPTION:
URL:https://kofc6521.org/event/corporate-communion-9/
LOCATION:St. Dominic Church\, 440 E. Briarcliff Rd.\, Bolingbrook\, 60440\, United States
CATEGORIES:Faith
END:VEVENT
BEGIN:VEVENT
DTSTART;TZID=America/Chicago:20251016T190000
DTEND;TZID=America/Chicago:20251016T210000
DTSTAMP:20260423T192100
CREATED:20250810T191256Z
LAST-MODIFIED:20250810T191256Z
UID:13518-1760641200-1760648400@kofc6521.org
SUMMARY:Officer Planning Meeting
DESCRIPTION:
URL:https://kofc6521.org/event/officer-planning-meeting-48/
LOCATION:St. Dominic Campus Father Frank Room\, 440 E Briarcliff Road\, Bolingbrook\, IL\, 60440\, United States
CATEGORIES:Business & Officer Meetings
END:VEVENT
BEGIN:VEVENT
DTSTART;TZID=America/Chicago:20251025T090000
DTEND;TZID=America/Chicago:20251025T120000
DTSTAMP:20260423T192100
CREATED:20251009T160815Z
LAST-MODIFIED:20251009T160815Z
UID:13591-1761382800-1761393600@kofc6521.org
SUMMARY:Tree Planting Event
DESCRIPTION:
URL:https://kofc6521.org/event/tree-planting-event/
LOCATION:Knights  of Columbus Park\, 190 Northridge Avenue\, Bolingbrook\, IL\, 60440\, United States
CATEGORIES:Community
END:VEVENT
BEGIN:VEVENT
DTSTART;TZID=America/Chicago:20251025T190000
DTEND;TZID=America/Chicago:20251025T220000
DTSTAMP:20260423T192100
CREATED:20250810T191752Z
LAST-MODIFIED:20250810T191752Z
UID:13520-1761418800-1761429600@kofc6521.org
SUMMARY:Wine and Cheese Social Event
DESCRIPTION:
URL:https://kofc6521.org/event/wine-and-cheese-social-event/
LOCATION:IL
CATEGORIES:Membership,Social Event
END:VEVENT
BEGIN:VEVENT
DTSTART;TZID=America/Chicago:20251026T090000
DTEND;TZID=America/Chicago:20251026T130000
DTSTAMP:20260423T192100
CREATED:20251002T184141Z
LAST-MODIFIED:20251002T184141Z
UID:13577-1761469200-1761483600@kofc6521.org
SUMMARY:Blood Drive
DESCRIPTION:
URL:https://kofc6521.org/event/blood-drive-7/
LOCATION:St. Dominic Church\, 440 E. Briarcliff Rd.\, Bolingbrook\, 60440\, United States
CATEGORIES:Community
END:VEVENT
END:VCALENDAR