BEGIN:VCALENDAR
VERSION:2.0
PRODID:-//Father Frank Anksorus Council #6521 - ECPv6.15.20//NONSGML v1.0//EN
CALSCALE:GREGORIAN
METHOD:PUBLISH
X-WR-CALNAME:Father Frank Anksorus Council #6521
X-ORIGINAL-URL:https://kofc6521.org
X-WR-CALDESC:Events for Father Frank Anksorus Council #6521
REFRESH-INTERVAL;VALUE=DURATION:PT1H
X-Robots-Tag:noindex
X-PUBLISHED-TTL:PT1H
BEGIN:VTIMEZONE
TZID:America/Chicago
BEGIN:DAYLIGHT
TZOFFSETFROM:-0600
TZOFFSETTO:-0500
TZNAME:CDT
DTSTART:20250309T080000
END:DAYLIGHT
BEGIN:STANDARD
TZOFFSETFROM:-0500
TZOFFSETTO:-0600
TZNAME:CST
DTSTART:20251102T070000
END:STANDARD
BEGIN:DAYLIGHT
TZOFFSETFROM:-0600
TZOFFSETTO:-0500
TZNAME:CDT
DTSTART:20260308T080000
END:DAYLIGHT
BEGIN:STANDARD
TZOFFSETFROM:-0500
TZOFFSETTO:-0600
TZNAME:CST
DTSTART:20261101T070000
END:STANDARD
BEGIN:DAYLIGHT
TZOFFSETFROM:-0600
TZOFFSETTO:-0500
TZNAME:CDT
DTSTART:20270314T080000
END:DAYLIGHT
BEGIN:STANDARD
TZOFFSETFROM:-0500
TZOFFSETTO:-0600
TZNAME:CST
DTSTART:20271107T070000
END:STANDARD
END:VTIMEZONE
BEGIN:VEVENT
DTSTART;TZID=America/Chicago:20260502T180000
DTEND;TZID=America/Chicago:20260502T210000
DTSTAMP:20260423T112659
CREATED:20260410T164920Z
LAST-MODIFIED:20260412T170911Z
UID:13763-1777744800-1777755600@kofc6521.org
SUMMARY:Victor Cardosi Awards 2026
DESCRIPTION:
URL:https://kofc6521.org/event/victor-cardosi-awards-2026/
LOCATION:St. Elizabeth Seton\, 2220 Lisson Rd\, Naperville\, IL\, 60565\, United States
CATEGORIES:Joliet Chapter
END:VEVENT
BEGIN:VEVENT
DTSTART;TZID=America/Chicago:20260507T193000
DTEND;TZID=America/Chicago:20260507T210000
DTSTAMP:20260423T112659
CREATED:20260408T160505Z
LAST-MODIFIED:20260408T160505Z
UID:13751-1778182200-1778187600@kofc6521.org
SUMMARY:Council Business Meeting
DESCRIPTION:
URL:https://kofc6521.org/event/council-business-meeting-60/
LOCATION:St. Dominic Campus Father Frank Room\, 440 E Briarcliff Road\, Bolingbrook\, IL\, 60440\, United States
CATEGORIES:Business & Officer Meetings
END:VEVENT
BEGIN:VEVENT
DTSTART;TZID=America/Chicago:20260515T150000
DTEND;TZID=America/Chicago:20260517T120000
DTSTAMP:20260423T112659
CREATED:20260408T161115Z
LAST-MODIFIED:20260408T161115Z
UID:13753-1778857200-1779019200@kofc6521.org
SUMMARY:K of C Illinois State Convention
DESCRIPTION:
URL:https://kofc6521.org/event/k-of-c-illinois-state-convention-3/
LOCATION:Crowne Plaza Hotel\, 3000 South Dirksen Parkway\, Springfield\, Illinois
CATEGORIES:State of Illinois Council
END:VEVENT
BEGIN:VEVENT
DTSTART;TZID=America/Chicago:20260521T193000
DTEND;TZID=America/Chicago:20260521T210000
DTSTAMP:20260423T112659
CREATED:20260408T161310Z
LAST-MODIFIED:20260408T161310Z
UID:13756-1779391800-1779397200@kofc6521.org
SUMMARY:Officer Planning Meeting
DESCRIPTION:
URL:https://kofc6521.org/event/officer-planning-meeting-54/
LOCATION:St. Dominic Campus Father Frank Room\, 440 E Briarcliff Road\, Bolingbrook\, IL\, 60440\, United States
CATEGORIES:Business & Officer Meetings
END:VEVENT
END:VCALENDAR